BEGIN:VCALENDAR
VERSION:2.0
PRODID:-//jEvents 2.0 for Joomla//EN
CALSCALE:GREGORIAN
METHOD:PUBLISH
BEGIN:VTIMEZONE
TZID:America/Los_Angeles
BEGIN:STANDARD
DTSTART:20251102T010000
RDATE:20260308T030000
TZOFFSETFROM:-0700
TZOFFSETTO:-0800
TZNAME:America/Los_Angeles PST
END:STANDARD
BEGIN:STANDARD
DTSTART:20261101T010000
RDATE:20270314T030000
TZOFFSETFROM:-0700
TZOFFSETTO:-0800
TZNAME:America/Los_Angeles PST
END:STANDARD
BEGIN:STANDARD
DTSTART:20271107T010000
RDATE:20280312T030000
TZOFFSETFROM:-0700
TZOFFSETTO:-0800
TZNAME:America/Los_Angeles PST
END:STANDARD
BEGIN:DAYLIGHT
DTSTART:20250424T100000
RDATE:20251102T010000
TZOFFSETFROM:-0800
TZOFFSETTO:-0700
TZNAME:America/Los_Angeles PDT
END:DAYLIGHT
BEGIN:DAYLIGHT
DTSTART:20260308T030000
RDATE:20261101T010000
TZOFFSETFROM:-0800
TZOFFSETTO:-0700
TZNAME:America/Los_Angeles PDT
END:DAYLIGHT
BEGIN:DAYLIGHT
DTSTART:20270314T030000
RDATE:20271107T010000
TZOFFSETFROM:-0800
TZOFFSETTO:-0700
TZNAME:America/Los_Angeles PDT
END:DAYLIGHT
END:VTIMEZONE
BEGIN:VEVENT
UID:e4bd1b4b57ca74431dd4572581b87f35
CATEGORIES:Hazel Dell Campus
CREATED:20260422T130858
SUMMARY:Women's faith and fellowship April 25
DESCRIPTION:Women's Faith and Fellowship study on Saturday, April 25 at 10 am downstair
 s- this month we are discussing Deborah and Jael. Contact Pastor Robyn for 
 more information. 
X-ALT-DESC;FMTTYPE=text/html:Women's Faith and Fellowship study on Saturday, April 25 at 10 am downstair
 s- this month we are discussing Deborah and Jael. Contact Pastor Robyn for 
 more information.&nbsp;
DTSTAMP:20260423T091616
DTSTART;TZID=America/Los_Angeles:20260425T100000
SEQUENCE:0
TRANSP:OPAQUE
END:VEVENT
END:VCALENDAR