BEGIN:VCALENDAR
VERSION:2.0
PRODID:-//jEvents 2.0 for Joomla//EN
CALSCALE:GREGORIAN
METHOD:PUBLISH
BEGIN:VTIMEZONE
TZID:America/Los_Angeles
BEGIN:STANDARD
DTSTART:20251102T010000
RDATE:20260308T030000
TZOFFSETFROM:-0700
TZOFFSETTO:-0800
TZNAME:America/Los_Angeles PST
END:STANDARD
BEGIN:STANDARD
DTSTART:20261101T010000
RDATE:20270314T030000
TZOFFSETFROM:-0700
TZOFFSETTO:-0800
TZNAME:America/Los_Angeles PST
END:STANDARD
BEGIN:STANDARD
DTSTART:20271107T010000
RDATE:20280312T030000
TZOFFSETFROM:-0700
TZOFFSETTO:-0800
TZNAME:America/Los_Angeles PST
END:STANDARD
BEGIN:DAYLIGHT
DTSTART:20250425T114500
RDATE:20251102T010000
TZOFFSETFROM:-0800
TZOFFSETTO:-0700
TZNAME:America/Los_Angeles PDT
END:DAYLIGHT
BEGIN:DAYLIGHT
DTSTART:20260308T030000
RDATE:20261101T010000
TZOFFSETFROM:-0800
TZOFFSETTO:-0700
TZNAME:America/Los_Angeles PDT
END:DAYLIGHT
BEGIN:DAYLIGHT
DTSTART:20270314T030000
RDATE:20271107T010000
TZOFFSETFROM:-0800
TZOFFSETTO:-0700
TZNAME:America/Los_Angeles PDT
END:DAYLIGHT
END:VTIMEZONE
BEGIN:VEVENT
UID:bcd9e4aacd45298aa1a4a0877dc9d8b9
CATEGORIES:Hazel Dell Campus
CREATED:20260420T140535
SUMMARY:Newcomers lunch
DESCRIPTION:<h2>Newcomers lunch April 26</h2><p>&nbsp;</p><p>It's time for a Newcomers'
  Lunch. If you have visited&nbsp;Messiah in the last two years, you are wel
 come to attend a Newcomers Lunch on April 26. Learn about Messiah, its miss
 ion&nbsp;and ministries, and talk with the Pastors. You can ask questions a
 nd you are invited to consider becoming a member.</p><p>The Lunch will be h
 eld downstairs at Hazel Dell, after the service, about 11:45, on April 26.<
 br /><br />The meal will be a light lunch. Please let Julie Bracken know if
  you have dietary restrictions.&nbsp;</p><p>If you have attended before, yo
 u are also welcome to attend.&nbsp;</p><p>Please reply to <a data-cke-saved
 -href="mailto:julieb@messiahvancouver.org" href="mailto:julieb@messiahvanco
 uver.org"></a><joomla-hidden-mail  is-link="1" is-email="1" first="anVsaWVi
 " last="bWVzc2lhaHZhbmNvdXZlci5vcmc=" text="anVsaWViQG1lc3NpYWh2YW5jb3V2ZXI
 ub3Jn" base="" >This email address is being protected from spambots. You ne
 ed JavaScript enabled to view it.</joomla-hidden-mail>, preferably by April
  22.</p>
DTSTAMP:20260421T120147
DTSTART;TZID=America/Los_Angeles:20260426T114500
SEQUENCE:0
TRANSP:OPAQUE
END:VEVENT
END:VCALENDAR